BEGIN:VCALENDAR
VERSION:2.0
PRODID:-//Seminole Club - ECPv6.15.20//NONSGML v1.0//EN
CALSCALE:GREGORIAN
METHOD:PUBLISH
X-ORIGINAL-URL:https://scseminoles.org
X-WR-CALDESC:Events for Seminole Club
REFRESH-INTERVAL;VALUE=DURATION:PT1H
X-Robots-Tag:noindex
X-PUBLISHED-TTL:PT1H
BEGIN:VTIMEZONE
TZID:UTC
BEGIN:STANDARD
TZOFFSETFROM:+0000
TZOFFSETTO:+0000
TZNAME:UTC
DTSTART:20150101T000000
END:STANDARD
END:VTIMEZONE
BEGIN:VEVENT
DTSTART;TZID=UTC:20181110T193000
DTEND;TZID=UTC:20181110T233000
DTSTAMP:20260423T192227
CREATED:20170803T145254Z
LAST-MODIFIED:20180814T124730Z
UID:1393-1541878200-1541892600@scseminoles.org
SUMMARY:at Notre Dame
DESCRIPTION:Notre Dame Stadium | Notre Dame\, IN \nCan be seen on NBC
URL:https://scseminoles.org/event/duke/
LOCATION:Publico\, 2013 Greene Street\, Columbia\, SC\, 29205\, United States
END:VEVENT
BEGIN:VEVENT
DTSTART;VALUE=DATE:20181103
DTEND;VALUE=DATE:20181104
DTSTAMP:20260423T192227
CREATED:20170803T144440Z
LAST-MODIFIED:20180814T124447Z
UID:1387-1541203200-1541289599@scseminoles.org
SUMMARY:at North Carolina State
DESCRIPTION:Carter-Finley Stadium | Raleigh\, NC \nTV TBA
URL:https://scseminoles.org/event/north-carolina-state/
LOCATION:Publico\, 2013 Greene Street\, Columbia\, SC\, 29205\, United States
END:VEVENT
BEGIN:VEVENT
DTSTART;VALUE=DATE:20181027
DTEND;VALUE=DATE:20181028
DTSTAMP:20260423T192227
CREATED:20170803T150236Z
LAST-MODIFIED:20180814T115600Z
UID:1401-1540598400-1540684799@scseminoles.org
SUMMARY:Clemson
DESCRIPTION:Doak Campbell Stadium | Tallahassee\, FL \nTV TBA
URL:https://scseminoles.org/event/clemson-2/
LOCATION:Publico\, 2013 Greene Street\, Columbia\, SC\, 29205\, United States
END:VEVENT
BEGIN:VEVENT
DTSTART;VALUE=DATE:20181020
DTEND;VALUE=DATE:20181021
DTSTAMP:20260423T192227
CREATED:20170803T144735Z
LAST-MODIFIED:20180814T122713Z
UID:1389-1539993600-1540079999@scseminoles.org
SUMMARY:Wake Forest
DESCRIPTION:Doak Campbell Stadium | Tallahassee\, FL \nTV TBA
URL:https://scseminoles.org/event/wake-forest-2/
LOCATION:Publico\, 2013 Greene Street\, Columbia\, SC\, 29205\, United States
END:VEVENT
BEGIN:VEVENT
DTSTART;VALUE=DATE:20181013
DTEND;VALUE=DATE:20181014
DTSTAMP:20260423T192227
CREATED:20170803T142803Z
LAST-MODIFIED:20180814T125550Z
UID:1379-1539388800-1539475199@scseminoles.org
SUMMARY:OFF WEEK
DESCRIPTION:
URL:https://scseminoles.org/event/ul-monroe/
LOCATION:Publico\, 2013 Greene Street\, Columbia\, SC\, 29205\, United States
END:VEVENT
BEGIN:VEVENT
DTSTART;VALUE=DATE:20181006
DTEND;VALUE=DATE:20181007
DTSTAMP:20260423T192227
CREATED:20170803T143225Z
LAST-MODIFIED:20180814T120507Z
UID:1383-1538784000-1538870399@scseminoles.org
SUMMARY:at Miami
DESCRIPTION:AWAY – Hard Rock Stadium | Miami Gardens\, FL \nTV TBA
URL:https://scseminoles.org/event/miami-2/
LOCATION:Publico\, 2013 Greene Street\, Columbia\, SC\, 29205\, United States
END:VEVENT
BEGIN:VEVENT
DTSTART;VALUE=DATE:20180929
DTEND;VALUE=DATE:20180930
DTSTAMP:20260423T192227
CREATED:20170803T145418Z
LAST-MODIFIED:20180814T120251Z
UID:1395-1538179200-1538265599@scseminoles.org
SUMMARY:at Louisville
DESCRIPTION:AWAY – Cardinal Stadium | Louisville\, KY \nTV TBA
URL:https://scseminoles.org/event/louisville-2/
LOCATION:Publico\, 2013 Greene Street\, Columbia\, SC\, 29205\, United States
END:VEVENT
BEGIN:VEVENT
DTSTART;VALUE=DATE:20180922
DTEND;VALUE=DATE:20180923
DTSTAMP:20260423T192227
CREATED:20170803T150020Z
LAST-MODIFIED:20180814T115909Z
UID:1399-1537574400-1537660799@scseminoles.org
SUMMARY:Northern Illinois
DESCRIPTION:Doak Campbell Stadium | Tallahassee\, FL \nTV TBA
URL:https://scseminoles.org/event/syracuse-2/
LOCATION:Publico\, 2013 Greene Street\, Columbia\, SC\, 29205\, United States
END:VEVENT
BEGIN:VEVENT
DTSTART;TZID=UTC:20180915T120000
DTEND;TZID=UTC:20180915T160000
DTSTAMP:20260423T192227
CREATED:20170803T150438Z
LAST-MODIFIED:20180814T120005Z
UID:1403-1537012800-1537027200@scseminoles.org
SUMMARY:at Syracuse
DESCRIPTION:AWAY – Carrier Dome | Syracuse\, NY \nSee game on ABC/ESPN/2/U
URL:https://scseminoles.org/event/delaware-state/
LOCATION:Publico\, 2013 Greene Street\, Columbia\, SC\, 29205\, United States
END:VEVENT
BEGIN:VEVENT
DTSTART;TZID=UTC:20180908T192000
DTEND;TZID=UTC:20180908T233000
DTSTAMP:20260423T192227
CREATED:20170803T150712Z
LAST-MODIFIED:20180814T114716Z
UID:1405-1536434400-1536449400@scseminoles.org
SUMMARY:Samford
DESCRIPTION:Doak Campbell Stadium | Tallahassee\, FL \nHall of Fame Weekend – See game on ACCN.
URL:https://scseminoles.org/event/florida-2/
LOCATION:Publico\, 2013 Greene Street\, Columbia\, SC\, 29205\, United States
END:VEVENT
BEGIN:VEVENT
DTSTART;TZID=UTC:20180903T200000
DTEND;TZID=UTC:20180903T233000
DTSTAMP:20260423T192227
CREATED:20170803T142138Z
LAST-MODIFIED:20180814T113344Z
UID:1377-1536004800-1536017400@scseminoles.org
SUMMARY:Virginia Tech
DESCRIPTION:Doak Campbell Stadium | Tallahassee\, FL \nSee game on ESPN.
URL:https://scseminoles.org/event/alabama/
LOCATION:Publico\, 2013 Greene Street\, Columbia\, SC\, 29205\, United States
END:VEVENT
BEGIN:VEVENT
DTSTART;TZID=UTC:20170513T083000
DTEND;TZID=UTC:20170513T083000
DTSTAMP:20260423T192227
CREATED:20170501T155734Z
LAST-MODIFIED:20170505T201323Z
UID:1356-1494664200-1494664200@scseminoles.org
SUMMARY:Adopt-A-Highway Pick-up
DESCRIPTION:Seminole alumni and fans united in the Midlands\n \nIt’s time for Adopt-A-Highway Pick-up!\nPlease join your fellow Seminoles May 13th at 8:30am\nat Pilgrim Lutheran Church\, 1430 North Lake Drive\, Lexington\, SC. \nLocation Map\nThis event qualifies for non-profit hours with your employer\, if\nyour employer participates OR community service hours for students. \nMark your calendar for our next pick-up date: August 26\, 2017.\n\n\n \nFuture Dates\nAugust 26\, 2017\nNovember18\, 2017 \n\n\n \nProceeds benefit FSU\nScholarships
URL:https://scseminoles.org/event/adopt-a-highway-pick-up/
LOCATION:SC
END:VEVENT
BEGIN:VEVENT
DTSTART;TZID=UTC:20161111T193000
DTEND;TZID=UTC:20161111T193000
DTSTAMP:20260423T192227
CREATED:20160826T130501Z
LAST-MODIFIED:20160826T134336Z
UID:1169-1478892600-1478892600@scseminoles.org
SUMMARY:Boston College
DESCRIPTION:Tallahassee\, FL
URL:https://scseminoles.org/event/boston-college/
LOCATION:Publico\, 2013 Greene Street\, Columbia\, SC\, 29205\, United States
CATEGORIES:Game Day
END:VEVENT
BEGIN:VEVENT
DTSTART;TZID=UTC:20161105T000000
DTEND;TZID=UTC:20161105T000000
DTSTAMP:20260423T192227
CREATED:20160826T130501Z
LAST-MODIFIED:20160826T134401Z
UID:1168-1478304000-1478304000@scseminoles.org
SUMMARY:NC State
DESCRIPTION:at Raleigh\, NC
URL:https://scseminoles.org/event/nc-state/
LOCATION:Publico\, 2013 Greene Street\, Columbia\, SC\, 29205\, United States
CATEGORIES:Game Day
END:VEVENT
BEGIN:VEVENT
DTSTART;TZID=UTC:20161029T000000
DTEND;TZID=UTC:20161029T000000
DTSTAMP:20260423T192227
CREATED:20160826T130501Z
LAST-MODIFIED:20160826T134416Z
UID:1167-1477699200-1477699200@scseminoles.org
SUMMARY:Clemson
DESCRIPTION:Tallahassee\, FL
URL:https://scseminoles.org/event/clemson/
LOCATION:Publico\, 2013 Greene Street\, Columbia\, SC\, 29205\, United States
CATEGORIES:Game Day
END:VEVENT
BEGIN:VEVENT
DTSTART;TZID=UTC:20161015T000000
DTEND;TZID=UTC:20161015T000000
DTSTAMP:20260423T192227
CREATED:20160826T130501Z
LAST-MODIFIED:20160826T134433Z
UID:1166-1476489600-1476489600@scseminoles.org
SUMMARY:Wake Forest
DESCRIPTION:Tallahassee\, FL
URL:https://scseminoles.org/event/wake-forest/
LOCATION:Publico\, 2013 Greene Street\, Columbia\, SC\, 29205\, United States
CATEGORIES:Game Day
END:VEVENT
BEGIN:VEVENT
DTSTART;TZID=UTC:20161008T000000
DTEND;TZID=UTC:20161008T000000
DTSTAMP:20260423T192227
CREATED:20160826T130501Z
LAST-MODIFIED:20160826T134451Z
UID:1165-1475884800-1475884800@scseminoles.org
SUMMARY:Miami
DESCRIPTION:at Miami Gardens\, FL
URL:https://scseminoles.org/event/miami/
LOCATION:Publico\, 2013 Greene Street\, Columbia\, SC\, 29205\, United States
CATEGORIES:Game Day
END:VEVENT
BEGIN:VEVENT
DTSTART;TZID=UTC:20161001T000000
DTEND;TZID=UTC:20161001T000000
DTSTAMP:20260423T192227
CREATED:20160826T130501Z
LAST-MODIFIED:20160826T134507Z
UID:1164-1475280000-1475280000@scseminoles.org
SUMMARY:North Carolina
DESCRIPTION:Tallahassee\, FL
URL:https://scseminoles.org/event/north-carolina/
LOCATION:Publico\, 2013 Greene Street\, Columbia\, SC\, 29205\, United States
CATEGORIES:Game Day
END:VEVENT
BEGIN:VEVENT
DTSTART;TZID=UTC:20160924T000000
DTEND;TZID=UTC:20160924T000000
DTSTAMP:20260423T192227
CREATED:20160826T130500Z
LAST-MODIFIED:20160826T134525Z
UID:1163-1474675200-1474675200@scseminoles.org
SUMMARY:USF
DESCRIPTION:at Tampa\, FL
URL:https://scseminoles.org/event/usf/
LOCATION:Publico\, 2013 Greene Street\, Columbia\, SC\, 29205\, United States
CATEGORIES:Game Day
END:VEVENT
BEGIN:VEVENT
DTSTART;TZID=UTC:20160917T120000
DTEND;TZID=UTC:20160917T120000
DTSTAMP:20260423T192227
CREATED:20160826T130500Z
LAST-MODIFIED:20160913T014159Z
UID:1162-1474113600-1474113600@scseminoles.org
SUMMARY:Louisville
DESCRIPTION:at Louisville\, KY
URL:https://scseminoles.org/event/louisville/
LOCATION:Publico\, 2013 Greene Street\, Columbia\, SC\, 29205\, United States
CATEGORIES:Game Day
ATTACH;FMTTYPE=image/png:https://scseminoles.org/wp-content/uploads/2016/08/FSU_Tag.png
END:VEVENT
BEGIN:VEVENT
DTSTART;TZID=UTC:20160910T123000
DTEND;TZID=UTC:20160910T123000
DTSTAMP:20260423T192227
CREATED:20160826T130500Z
LAST-MODIFIED:20160826T134559Z
UID:1161-1473510600-1473510600@scseminoles.org
SUMMARY:Charleston Southern
DESCRIPTION:Tallahassee\, FL
URL:https://scseminoles.org/event/charleston-southern/
LOCATION:Publico\, 2013 Greene Street\, Columbia\, SC\, 29205\, United States
CATEGORIES:Game Day
END:VEVENT
BEGIN:VEVENT
DTSTART;TZID=UTC:20160905T200000
DTEND;TZID=UTC:20160905T200000
DTSTAMP:20260423T192227
CREATED:20160826T130500Z
LAST-MODIFIED:20160826T134615Z
UID:1160-1473105600-1473105600@scseminoles.org
SUMMARY:Ole Miss
DESCRIPTION:Orlando\, FL
URL:https://scseminoles.org/event/ole-miss/
LOCATION:Publico\, 2013 Greene Street\, Columbia\, SC\, 29205\, United States
CATEGORIES:Game Day
END:VEVENT
END:VCALENDAR